BEGIN:VCALENDAR
VERSION:2.0
PRODID:-//Felixstowe - ECPv6.15.20//NONSGML v1.0//EN
CALSCALE:GREGORIAN
METHOD:PUBLISH
X-WR-CALNAME:Felixstowe
X-ORIGINAL-URL:https://felixstowetennis.co.uk
X-WR-CALDESC:Events for Felixstowe
REFRESH-INTERVAL;VALUE=DURATION:PT1H
X-Robots-Tag:noindex
X-PUBLISHED-TTL:PT1H
BEGIN:VTIMEZONE
TZID:Europe/London
BEGIN:DAYLIGHT
TZOFFSETFROM:+0000
TZOFFSETTO:+0100
TZNAME:BST
DTSTART:20240331T010000
END:DAYLIGHT
BEGIN:STANDARD
TZOFFSETFROM:+0100
TZOFFSETTO:+0000
TZNAME:GMT
DTSTART:20241027T010000
END:STANDARD
BEGIN:DAYLIGHT
TZOFFSETFROM:+0000
TZOFFSETTO:+0100
TZNAME:BST
DTSTART:20250330T010000
END:DAYLIGHT
BEGIN:STANDARD
TZOFFSETFROM:+0100
TZOFFSETTO:+0000
TZNAME:GMT
DTSTART:20251026T010000
END:STANDARD
BEGIN:DAYLIGHT
TZOFFSETFROM:+0000
TZOFFSETTO:+0100
TZNAME:BST
DTSTART:20260329T010000
END:DAYLIGHT
BEGIN:STANDARD
TZOFFSETFROM:+0100
TZOFFSETTO:+0000
TZNAME:GMT
DTSTART:20261025T010000
END:STANDARD
END:VTIMEZONE
BEGIN:VEVENT
DTSTART;TZID=Europe/London:20250410T183000
DTEND;TZID=Europe/London:20250410T193000
DTSTAMP:20260421T024338
CREATED:20250409T181153Z
LAST-MODIFIED:20250409T181153Z
UID:1059-1744309800-1744313400@felixstowetennis.co.uk
SUMMARY:Cardio Tennis
DESCRIPTION:
URL:https://felixstowetennis.co.uk/event/cardio-tennis/
CATEGORIES:Adult Coaching
END:VEVENT
BEGIN:VEVENT
DTSTART;TZID=Europe/London:20250411T183000
DTEND;TZID=Europe/London:20250411T193000
DTSTAMP:20260421T024338
CREATED:20250409T182458Z
LAST-MODIFIED:20250409T182458Z
UID:1081-1744396200-1744399800@felixstowetennis.co.uk
SUMMARY:Beginner/Improver Coaching
DESCRIPTION:
URL:https://felixstowetennis.co.uk/event/beginner-improver-coaching/
CATEGORIES:Adult Coaching
END:VEVENT
BEGIN:VEVENT
DTSTART;TZID=Europe/London:20250414T140000
DTEND;TZID=Europe/London:20250414T150000
DTSTAMP:20260421T024338
CREATED:20250409T163139Z
LAST-MODIFIED:20250409T163139Z
UID:918-1744639200-1744642800@felixstowetennis.co.uk
SUMMARY:Gents Afternoon Coaching
DESCRIPTION:
URL:https://felixstowetennis.co.uk/event/gents-afternoon-coaching/
CATEGORIES:Adult Coaching
END:VEVENT
BEGIN:VEVENT
DTSTART;TZID=Europe/London:20250416T100000
DTEND;TZID=Europe/London:20250416T110000
DTSTAMP:20260421T024338
CREATED:20250409T174909Z
LAST-MODIFIED:20250409T174909Z
UID:991-1744797600-1744801200@felixstowetennis.co.uk
SUMMARY:Ladies Morning
DESCRIPTION:
URL:https://felixstowetennis.co.uk/event/ladies-morning/
CATEGORIES:Adult Coaching
END:VEVENT
BEGIN:VEVENT
DTSTART;TZID=Europe/London:20250416T183000
DTEND;TZID=Europe/London:20250416T200000
DTSTAMP:20260421T024338
CREATED:20250409T175855Z
LAST-MODIFIED:20250409T175855Z
UID:1017-1744828200-1744833600@felixstowetennis.co.uk
SUMMARY:Advanced Coaching
DESCRIPTION:
URL:https://felixstowetennis.co.uk/event/advanced-coaching-2/
CATEGORIES:Adult Coaching
END:VEVENT
BEGIN:VEVENT
DTSTART;TZID=Europe/London:20250422T183000
DTEND;TZID=Europe/London:20250422T200000
DTSTAMP:20260421T024338
CREATED:20250409T175758Z
LAST-MODIFIED:20250409T175758Z
UID:1015-1745346600-1745352000@felixstowetennis.co.uk
SUMMARY:Advanced Coaching
DESCRIPTION:
URL:https://felixstowetennis.co.uk/event/advanced-coaching/
CATEGORIES:Adult Coaching
END:VEVENT
BEGIN:VEVENT
DTSTART;TZID=Europe/London:20250423T100000
DTEND;TZID=Europe/London:20250423T110000
DTSTAMP:20260421T024338
CREATED:20250409T174937Z
LAST-MODIFIED:20250409T174937Z
UID:993-1745402400-1745406000@felixstowetennis.co.uk
SUMMARY:Ladies Morning
DESCRIPTION:Ladies Morning
URL:https://felixstowetennis.co.uk/event/ladies-morning-2/
CATEGORIES:Adult Coaching
END:VEVENT
BEGIN:VEVENT
DTSTART;TZID=Europe/London:20250423T183000
DTEND;TZID=Europe/London:20250423T200000
DTSTAMP:20260421T024338
CREATED:20250409T175922Z
LAST-MODIFIED:20250409T175922Z
UID:1019-1745433000-1745438400@felixstowetennis.co.uk
SUMMARY:Advanced Coaching
DESCRIPTION:
URL:https://felixstowetennis.co.uk/event/advanced-coaching-3/
CATEGORIES:Adult Coaching
END:VEVENT
BEGIN:VEVENT
DTSTART;TZID=Europe/London:20250425T183000
DTEND;TZID=Europe/London:20250425T193000
DTSTAMP:20260421T024338
CREATED:20250409T182522Z
LAST-MODIFIED:20250409T182522Z
UID:1083-1745605800-1745609400@felixstowetennis.co.uk
SUMMARY:Beginner/Improver Coaching
DESCRIPTION:
URL:https://felixstowetennis.co.uk/event/beginner-improver-coaching-2/
CATEGORIES:Adult Coaching
END:VEVENT
BEGIN:VEVENT
DTSTART;TZID=Europe/London:20250430T100000
DTEND;TZID=Europe/London:20250430T110000
DTSTAMP:20260421T024338
CREATED:20250409T175013Z
LAST-MODIFIED:20250409T175013Z
UID:995-1746007200-1746010800@felixstowetennis.co.uk
SUMMARY:Ladies Morning
DESCRIPTION:
URL:https://felixstowetennis.co.uk/event/ladies-morning-3/
CATEGORIES:Adult Coaching
END:VEVENT
BEGIN:VEVENT
DTSTART;TZID=Europe/London:20250430T183000
DTEND;TZID=Europe/London:20250430T200000
DTSTAMP:20260421T024338
CREATED:20250409T175956Z
LAST-MODIFIED:20250409T175956Z
UID:1021-1746037800-1746043200@felixstowetennis.co.uk
SUMMARY:Advanced Coaching
DESCRIPTION:
URL:https://felixstowetennis.co.uk/event/advanced-coaching-4/
CATEGORIES:Adult Coaching
END:VEVENT
END:VCALENDAR