BEGIN:VCALENDAR
VERSION:2.0
PRODID:-//Felixstowe - ECPv6.15.20//NONSGML v1.0//EN
CALSCALE:GREGORIAN
METHOD:PUBLISH
X-WR-CALNAME:Felixstowe
X-ORIGINAL-URL:https://felixstowetennis.co.uk
X-WR-CALDESC:Events for Felixstowe
REFRESH-INTERVAL;VALUE=DURATION:PT1H
X-Robots-Tag:noindex
X-PUBLISHED-TTL:PT1H
BEGIN:VTIMEZONE
TZID:Europe/London
BEGIN:DAYLIGHT
TZOFFSETFROM:+0000
TZOFFSETTO:+0100
TZNAME:BST
DTSTART:20240331T010000
END:DAYLIGHT
BEGIN:STANDARD
TZOFFSETFROM:+0100
TZOFFSETTO:+0000
TZNAME:GMT
DTSTART:20241027T010000
END:STANDARD
BEGIN:DAYLIGHT
TZOFFSETFROM:+0000
TZOFFSETTO:+0100
TZNAME:BST
DTSTART:20250330T010000
END:DAYLIGHT
BEGIN:STANDARD
TZOFFSETFROM:+0100
TZOFFSETTO:+0000
TZNAME:GMT
DTSTART:20251026T010000
END:STANDARD
BEGIN:DAYLIGHT
TZOFFSETFROM:+0000
TZOFFSETTO:+0100
TZNAME:BST
DTSTART:20260329T010000
END:DAYLIGHT
BEGIN:STANDARD
TZOFFSETFROM:+0100
TZOFFSETTO:+0000
TZNAME:GMT
DTSTART:20261025T010000
END:STANDARD
END:VTIMEZONE
BEGIN:VEVENT
DTSTART;TZID=Europe/London:20250616T140000
DTEND;TZID=Europe/London:20250616T150000
DTSTAMP:20260421T050942
CREATED:20250409T163612Z
LAST-MODIFIED:20250409T163612Z
UID:933-1750082400-1750086000@felixstowetennis.co.uk
SUMMARY:Gents afternoon Coaching
DESCRIPTION:
URL:https://felixstowetennis.co.uk/event/gents-afternoon-coaching-8/
CATEGORIES:Adult Coaching
END:VEVENT
BEGIN:VEVENT
DTSTART;TZID=Europe/London:20250617T183000
DTEND;TZID=Europe/London:20250617T200000
DTSTAMP:20260421T050942
CREATED:20250409T180635Z
LAST-MODIFIED:20250409T180635Z
UID:1043-1750185000-1750190400@felixstowetennis.co.uk
SUMMARY:Advanced Coaching
DESCRIPTION:
URL:https://felixstowetennis.co.uk/event/advanced-coaching-15/
CATEGORIES:Adult Coaching
END:VEVENT
BEGIN:VEVENT
DTSTART;TZID=Europe/London:20250618T100000
DTEND;TZID=Europe/London:20250618T110000
DTSTAMP:20260421T050942
CREATED:20250409T175426Z
LAST-MODIFIED:20250409T175426Z
UID:1007-1750240800-1750244400@felixstowetennis.co.uk
SUMMARY:Ladies Morning
DESCRIPTION:
URL:https://felixstowetennis.co.uk/event/ladies-morning-9/
CATEGORIES:Adult Coaching
END:VEVENT
BEGIN:VEVENT
DTSTART;TZID=Europe/London:20250618T183000
DTEND;TZID=Europe/London:20250618T200000
DTSTAMP:20260421T050942
CREATED:20250409T180659Z
LAST-MODIFIED:20250409T180659Z
UID:1045-1750271400-1750276800@felixstowetennis.co.uk
SUMMARY:Advanced Coaching
DESCRIPTION:
URL:https://felixstowetennis.co.uk/event/advanced-coaching-16/
CATEGORIES:Adult Coaching
END:VEVENT
BEGIN:VEVENT
DTSTART;TZID=Europe/London:20250619T183000
DTEND;TZID=Europe/London:20250619T193000
DTSTAMP:20260421T050942
CREATED:20250409T181557Z
LAST-MODIFIED:20250409T181557Z
UID:1073-1750357800-1750361400@felixstowetennis.co.uk
SUMMARY:Cardio Tennis
DESCRIPTION:
URL:https://felixstowetennis.co.uk/event/cardio-tennis-8/
CATEGORIES:Adult Coaching
END:VEVENT
BEGIN:VEVENT
DTSTART;TZID=Europe/London:20250620T183000
DTEND;TZID=Europe/London:20250620T193000
DTSTAMP:20260421T050942
CREATED:20250409T183040Z
LAST-MODIFIED:20250409T183040Z
UID:1099-1750444200-1750447800@felixstowetennis.co.uk
SUMMARY:Beginner/Improver Coaching
DESCRIPTION:
URL:https://felixstowetennis.co.uk/event/beginner-improver-coaching-10/
CATEGORIES:Adult Coaching
END:VEVENT
BEGIN:VEVENT
DTSTART;TZID=Europe/London:20250623T140000
DTEND;TZID=Europe/London:20250623T150000
DTSTAMP:20260421T050942
CREATED:20250409T163650Z
LAST-MODIFIED:20250409T163650Z
UID:935-1750687200-1750690800@felixstowetennis.co.uk
SUMMARY:Gents afternoon Coaching
DESCRIPTION:
URL:https://felixstowetennis.co.uk/event/gents-afternoon-coaching-9/
CATEGORIES:Adult Coaching
END:VEVENT
BEGIN:VEVENT
DTSTART;TZID=Europe/London:20250624T183000
DTEND;TZID=Europe/London:20250624T200000
DTSTAMP:20260421T050942
CREATED:20250409T180724Z
LAST-MODIFIED:20250409T180724Z
UID:1047-1750789800-1750795200@felixstowetennis.co.uk
SUMMARY:Advanced Coaching
DESCRIPTION:
URL:https://felixstowetennis.co.uk/event/advanced-coaching-17/
CATEGORIES:Adult Coaching
END:VEVENT
BEGIN:VEVENT
DTSTART;TZID=Europe/London:20250625T100000
DTEND;TZID=Europe/London:20250625T110000
DTSTAMP:20260421T050942
CREATED:20250409T175447Z
LAST-MODIFIED:20250409T175447Z
UID:1009-1750845600-1750849200@felixstowetennis.co.uk
SUMMARY:Ladies Morning
DESCRIPTION:
URL:https://felixstowetennis.co.uk/event/ladies-morning-10/
CATEGORIES:Adult Coaching
END:VEVENT
BEGIN:VEVENT
DTSTART;TZID=Europe/London:20250625T183000
DTEND;TZID=Europe/London:20250625T200000
DTSTAMP:20260421T050942
CREATED:20250409T180754Z
LAST-MODIFIED:20250409T180754Z
UID:1049-1750876200-1750881600@felixstowetennis.co.uk
SUMMARY:Advanced Coaching
DESCRIPTION:
URL:https://felixstowetennis.co.uk/event/advanced-coaching-18/
CATEGORIES:Adult Coaching
END:VEVENT
BEGIN:VEVENT
DTSTART;TZID=Europe/London:20250626T183000
DTEND;TZID=Europe/London:20250626T193000
DTSTAMP:20260421T050942
CREATED:20250409T181633Z
LAST-MODIFIED:20250409T181633Z
UID:1075-1750962600-1750966200@felixstowetennis.co.uk
SUMMARY:Cardio Tennis
DESCRIPTION:
URL:https://felixstowetennis.co.uk/event/cardio-tennis-9/
CATEGORIES:Adult Coaching
END:VEVENT
BEGIN:VEVENT
DTSTART;TZID=Europe/London:20250627T183000
DTEND;TZID=Europe/London:20250627T193000
DTSTAMP:20260421T050942
CREATED:20250409T183106Z
LAST-MODIFIED:20250409T183106Z
UID:1101-1751049000-1751052600@felixstowetennis.co.uk
SUMMARY:Beginner/Improver Coaching
DESCRIPTION:
URL:https://felixstowetennis.co.uk/event/beginner-improver-coaching-11/
CATEGORIES:Adult Coaching
END:VEVENT
BEGIN:VEVENT
DTSTART;TZID=Europe/London:20250630T140000
DTEND;TZID=Europe/London:20250630T150000
DTSTAMP:20260421T050942
CREATED:20250409T163723Z
LAST-MODIFIED:20250409T163723Z
UID:937-1751292000-1751295600@felixstowetennis.co.uk
SUMMARY:Gents afternoon Coaching
DESCRIPTION:
URL:https://felixstowetennis.co.uk/event/gents-afternoon-coaching-10/
CATEGORIES:Adult Coaching
END:VEVENT
BEGIN:VEVENT
DTSTART;TZID=Europe/London:20250701T183000
DTEND;TZID=Europe/London:20250701T200000
DTSTAMP:20260421T050942
CREATED:20250409T180856Z
LAST-MODIFIED:20250409T180856Z
UID:1051-1751394600-1751400000@felixstowetennis.co.uk
SUMMARY:Advanced Coaching
DESCRIPTION:
URL:https://felixstowetennis.co.uk/event/advanced-coaching-19/
CATEGORIES:Adult Coaching
END:VEVENT
BEGIN:VEVENT
DTSTART;TZID=Europe/London:20250702T100000
DTEND;TZID=Europe/London:20250702T110000
DTSTAMP:20260421T050942
CREATED:20250409T175551Z
LAST-MODIFIED:20250409T175551Z
UID:1011-1751450400-1751454000@felixstowetennis.co.uk
SUMMARY:Ladies Morning
DESCRIPTION:
URL:https://felixstowetennis.co.uk/event/ladies-morning-11/
CATEGORIES:Adult Coaching
END:VEVENT
BEGIN:VEVENT
DTSTART;TZID=Europe/London:20250702T100000
DTEND;TZID=Europe/London:20250702T200000
DTSTAMP:20260421T050942
CREATED:20250409T180922Z
LAST-MODIFIED:20250409T180922Z
UID:1053-1751450400-1751486400@felixstowetennis.co.uk
SUMMARY:Advanced Coaching
DESCRIPTION:
URL:https://felixstowetennis.co.uk/event/advanced-coaching-20/
CATEGORIES:Adult Coaching
END:VEVENT
BEGIN:VEVENT
DTSTART;TZID=Europe/London:20250703T183000
DTEND;TZID=Europe/London:20250703T193000
DTSTAMP:20260421T050942
CREATED:20250409T182056Z
LAST-MODIFIED:20250409T182056Z
UID:1077-1751567400-1751571000@felixstowetennis.co.uk
SUMMARY:Cardio Tennis
DESCRIPTION:
URL:https://felixstowetennis.co.uk/event/cardio-tennis-10/
CATEGORIES:Adult Coaching
END:VEVENT
BEGIN:VEVENT
DTSTART;TZID=Europe/London:20250704T183000
DTEND;TZID=Europe/London:20250704T193000
DTSTAMP:20260421T050942
CREATED:20250409T183146Z
LAST-MODIFIED:20250409T183146Z
UID:1103-1751653800-1751657400@felixstowetennis.co.uk
SUMMARY:Beginner/Improver Coaching
DESCRIPTION:
URL:https://felixstowetennis.co.uk/event/beginner-improver-coaching-12/
CATEGORIES:Adult Coaching
END:VEVENT
BEGIN:VEVENT
DTSTART;TZID=Europe/London:20250707T140000
DTEND;TZID=Europe/London:20250707T150000
DTSTAMP:20260421T050942
CREATED:20250409T163752Z
LAST-MODIFIED:20250409T163752Z
UID:939-1751896800-1751900400@felixstowetennis.co.uk
SUMMARY:Gents afternoon Coaching
DESCRIPTION:
URL:https://felixstowetennis.co.uk/event/gents-afternoon-coaching-11/
CATEGORIES:Adult Coaching
END:VEVENT
BEGIN:VEVENT
DTSTART;TZID=Europe/London:20250708T183000
DTEND;TZID=Europe/London:20250708T200000
DTSTAMP:20260421T050942
CREATED:20250409T180956Z
LAST-MODIFIED:20250409T180956Z
UID:1055-1751999400-1752004800@felixstowetennis.co.uk
SUMMARY:Advanced Coaching
DESCRIPTION:
URL:https://felixstowetennis.co.uk/event/advanced-coaching-21/
CATEGORIES:Adult Coaching
END:VEVENT
BEGIN:VEVENT
DTSTART;TZID=Europe/London:20250709T100000
DTEND;TZID=Europe/London:20250709T110000
DTSTAMP:20260421T050942
CREATED:20250409T175630Z
LAST-MODIFIED:20250409T175630Z
UID:1013-1752055200-1752058800@felixstowetennis.co.uk
SUMMARY:Ladies Morning
DESCRIPTION:
URL:https://felixstowetennis.co.uk/event/ladies-morning-12/
CATEGORIES:Adult Coaching
END:VEVENT
BEGIN:VEVENT
DTSTART;TZID=Europe/London:20250709T183000
DTEND;TZID=Europe/London:20250709T200000
DTSTAMP:20260421T050942
CREATED:20250409T181031Z
LAST-MODIFIED:20250409T181031Z
UID:1057-1752085800-1752091200@felixstowetennis.co.uk
SUMMARY:Advanced Coaching
DESCRIPTION:
URL:https://felixstowetennis.co.uk/event/advanced-coaching-22/
CATEGORIES:Adult Coaching
END:VEVENT
BEGIN:VEVENT
DTSTART;TZID=Europe/London:20250710T183000
DTEND;TZID=Europe/London:20250710T193000
DTSTAMP:20260421T050942
CREATED:20250409T182124Z
LAST-MODIFIED:20250409T182124Z
UID:1079-1752172200-1752175800@felixstowetennis.co.uk
SUMMARY:Cardio Tennis
DESCRIPTION:
URL:https://felixstowetennis.co.uk/event/cardio-tennis-11/
CATEGORIES:Adult Coaching
END:VEVENT
BEGIN:VEVENT
DTSTART;TZID=Europe/London:20250711T183000
DTEND;TZID=Europe/London:20250711T193000
DTSTAMP:20260421T050942
CREATED:20250409T183214Z
LAST-MODIFIED:20250409T183214Z
UID:1105-1752258600-1752262200@felixstowetennis.co.uk
SUMMARY:Beginner/Improver Coaching
DESCRIPTION:
URL:https://felixstowetennis.co.uk/event/beginner-improver-coaching-13/
CATEGORIES:Adult Coaching
END:VEVENT
BEGIN:VEVENT
DTSTART;TZID=Europe/London:20250714T140000
DTEND;TZID=Europe/London:20250714T150000
DTSTAMP:20260421T050942
CREATED:20250409T163818Z
LAST-MODIFIED:20250409T163818Z
UID:941-1752501600-1752505200@felixstowetennis.co.uk
SUMMARY:Gents afternoon Coaching
DESCRIPTION:
URL:https://felixstowetennis.co.uk/event/gents-afternoon-coaching-12/
CATEGORIES:Adult Coaching
END:VEVENT
BEGIN:VEVENT
DTSTART;TZID=Europe/London:20250721T140000
DTEND;TZID=Europe/London:20250721T150000
DTSTAMP:20260421T050942
CREATED:20250409T163858Z
LAST-MODIFIED:20250409T163858Z
UID:943-1753106400-1753110000@felixstowetennis.co.uk
SUMMARY:Gents afternoon Coaching
DESCRIPTION:
URL:https://felixstowetennis.co.uk/event/gents-afternoon-coaching-13/
CATEGORIES:Adult Coaching
END:VEVENT
BEGIN:VEVENT
DTSTART;TZID=Europe/London:20250728T140000
DTEND;TZID=Europe/London:20250728T150000
DTSTAMP:20260421T050942
CREATED:20250409T163937Z
LAST-MODIFIED:20250409T163937Z
UID:945-1753711200-1753714800@felixstowetennis.co.uk
SUMMARY:Gents afternoon Coaching
DESCRIPTION:
URL:https://felixstowetennis.co.uk/event/gents-afternoon-coaching-14/
CATEGORIES:Adult Coaching
END:VEVENT
BEGIN:VEVENT
DTSTART;TZID=Europe/London:20250804T140000
DTEND;TZID=Europe/London:20250804T150000
DTSTAMP:20260421T050942
CREATED:20250409T164006Z
LAST-MODIFIED:20250409T164006Z
UID:947-1754316000-1754319600@felixstowetennis.co.uk
SUMMARY:Gents afternoon Coaching
DESCRIPTION:
URL:https://felixstowetennis.co.uk/event/gents-afternoon-coaching-15/
CATEGORIES:Adult Coaching
END:VEVENT
BEGIN:VEVENT
DTSTART;TZID=Europe/London:20250811T140000
DTEND;TZID=Europe/London:20250811T150000
DTSTAMP:20260421T050942
CREATED:20250409T164033Z
LAST-MODIFIED:20250409T164033Z
UID:949-1754920800-1754924400@felixstowetennis.co.uk
SUMMARY:Gents afternoon Coaching
DESCRIPTION:
URL:https://felixstowetennis.co.uk/event/gents-afternoon-coaching-16/
CATEGORIES:Adult Coaching
END:VEVENT
BEGIN:VEVENT
DTSTART;TZID=Europe/London:20250818T140000
DTEND;TZID=Europe/London:20250818T150000
DTSTAMP:20260421T050942
CREATED:20250409T164101Z
LAST-MODIFIED:20250409T164101Z
UID:951-1755525600-1755529200@felixstowetennis.co.uk
SUMMARY:Gents afternoon Coaching
DESCRIPTION:
URL:https://felixstowetennis.co.uk/event/gents-afternoon-coaching-17/
CATEGORIES:Adult Coaching
END:VEVENT
END:VCALENDAR