BEGIN:VCALENDAR
VERSION:2.0
PRODID:-//Felixstowe - ECPv6.15.20//NONSGML v1.0//EN
CALSCALE:GREGORIAN
METHOD:PUBLISH
X-WR-CALNAME:Felixstowe
X-ORIGINAL-URL:https://felixstowetennis.co.uk
X-WR-CALDESC:Events for Felixstowe
REFRESH-INTERVAL;VALUE=DURATION:PT1H
X-Robots-Tag:noindex
X-PUBLISHED-TTL:PT1H
BEGIN:VTIMEZONE
TZID:Europe/London
BEGIN:DAYLIGHT
TZOFFSETFROM:+0000
TZOFFSETTO:+0100
TZNAME:BST
DTSTART:20240331T010000
END:DAYLIGHT
BEGIN:STANDARD
TZOFFSETFROM:+0100
TZOFFSETTO:+0000
TZNAME:GMT
DTSTART:20241027T010000
END:STANDARD
BEGIN:DAYLIGHT
TZOFFSETFROM:+0000
TZOFFSETTO:+0100
TZNAME:BST
DTSTART:20250330T010000
END:DAYLIGHT
BEGIN:STANDARD
TZOFFSETFROM:+0100
TZOFFSETTO:+0000
TZNAME:GMT
DTSTART:20251026T010000
END:STANDARD
BEGIN:DAYLIGHT
TZOFFSETFROM:+0000
TZOFFSETTO:+0100
TZNAME:BST
DTSTART:20260329T010000
END:DAYLIGHT
BEGIN:STANDARD
TZOFFSETFROM:+0100
TZOFFSETTO:+0000
TZNAME:GMT
DTSTART:20261025T010000
END:STANDARD
END:VTIMEZONE
BEGIN:VEVENT
DTSTART;VALUE=DATE:20250630
DTEND;VALUE=DATE:20250713
DTSTAMP:20260419T185748
CREATED:20250409T112818Z
LAST-MODIFIED:20250409T112818Z
UID:701-1751241600-1752364799@felixstowetennis.co.uk
SUMMARY:Wimbledon
DESCRIPTION:
URL:https://felixstowetennis.co.uk/event/wimbledon/
CATEGORIES:General
END:VEVENT
BEGIN:VEVENT
DTSTART;TZID=Europe/London:20250701T180000
DTEND;TZID=Europe/London:20250701T200000
DTSTAMP:20260419T185748
CREATED:20250409T132818Z
LAST-MODIFIED:20250409T132818Z
UID:824-1751392800-1751400000@felixstowetennis.co.uk
SUMMARY:Tuesday Evening Club Night
DESCRIPTION:
URL:https://felixstowetennis.co.uk/event/tuesday-evening-club-night-12/
CATEGORIES:General
END:VEVENT
BEGIN:VEVENT
DTSTART;TZID=Europe/London:20250706T100000
DTEND;TZID=Europe/London:20250706T120000
DTSTAMP:20260419T185748
CREATED:20250409T124358Z
LAST-MODIFIED:20250409T124358Z
UID:744-1751796000-1751803200@felixstowetennis.co.uk
SUMMARY:Sunday Morning Club Play
DESCRIPTION:
URL:https://felixstowetennis.co.uk/event/sunday-morning-club-play-13/
CATEGORIES:General
END:VEVENT
BEGIN:VEVENT
DTSTART;TZID=Europe/London:20250706T160000
DTEND;TZID=Europe/London:20250706T223000
DTSTAMP:20260419T185748
CREATED:20250617T084730Z
LAST-MODIFIED:20250617T084730Z
UID:1349-1751817600-1751841000@felixstowetennis.co.uk
SUMMARY:Private Function 4PM to 10.30PM
DESCRIPTION:
URL:https://felixstowetennis.co.uk/event/private-function-4pm-to-10-30pm/
CATEGORIES:General
END:VEVENT
BEGIN:VEVENT
DTSTART;TZID=Europe/London:20250708T180000
DTEND;TZID=Europe/London:20250708T200000
DTSTAMP:20260419T185748
CREATED:20250409T132854Z
LAST-MODIFIED:20250409T132854Z
UID:826-1751997600-1752004800@felixstowetennis.co.uk
SUMMARY:Tuesday Evening Club Night
DESCRIPTION:
URL:https://felixstowetennis.co.uk/event/tuesday-evening-club-night-13/
CATEGORIES:General
END:VEVENT
BEGIN:VEVENT
DTSTART;TZID=Europe/London:20250713T100000
DTEND;TZID=Europe/London:20250713T120000
DTSTAMP:20260419T185748
CREATED:20250409T125043Z
LAST-MODIFIED:20250409T125043Z
UID:746-1752400800-1752408000@felixstowetennis.co.uk
SUMMARY:Sunday Morning Club Play
DESCRIPTION:
URL:https://felixstowetennis.co.uk/event/sunday-morning-club-play-14/
CATEGORIES:General
END:VEVENT
BEGIN:VEVENT
DTSTART;TZID=Europe/London:20250715T180000
DTEND;TZID=Europe/London:20250715T200000
DTSTAMP:20260419T185748
CREATED:20250409T132931Z
LAST-MODIFIED:20250409T132931Z
UID:828-1752602400-1752609600@felixstowetennis.co.uk
SUMMARY:Tuesday Evening Club Night
DESCRIPTION:
URL:https://felixstowetennis.co.uk/event/tuesday-evening-club-night-14/
CATEGORIES:General
END:VEVENT
BEGIN:VEVENT
DTSTART;TZID=Europe/London:20250719T140000
DTEND;TZID=Europe/London:20250719T223000
DTSTAMP:20260419T185748
CREATED:20250617T084826Z
LAST-MODIFIED:20250617T084826Z
UID:1351-1752933600-1752964200@felixstowetennis.co.uk
SUMMARY:Private Function 2PM to 10.30PM
DESCRIPTION:
URL:https://felixstowetennis.co.uk/event/private-function-2pm-to-10-30pm/
CATEGORIES:General
END:VEVENT
BEGIN:VEVENT
DTSTART;TZID=Europe/London:20250720T100000
DTEND;TZID=Europe/London:20250720T120000
DTSTAMP:20260419T185748
CREATED:20250409T125201Z
LAST-MODIFIED:20250409T125201Z
UID:748-1753005600-1753012800@felixstowetennis.co.uk
SUMMARY:Sunday Morning Club Play
DESCRIPTION:
URL:https://felixstowetennis.co.uk/event/sunday-morning-club-play-15/
CATEGORIES:General
END:VEVENT
BEGIN:VEVENT
DTSTART;TZID=Europe/London:20250722T180000
DTEND;TZID=Europe/London:20250722T200000
DTSTAMP:20260419T185748
CREATED:20250409T132956Z
LAST-MODIFIED:20250409T132956Z
UID:830-1753207200-1753214400@felixstowetennis.co.uk
SUMMARY:Tuesday Evening Club Night
DESCRIPTION:
URL:https://felixstowetennis.co.uk/event/tuesday-evening-club-night-15/
CATEGORIES:General
END:VEVENT
BEGIN:VEVENT
DTSTART;TZID=Europe/London:20250727T100000
DTEND;TZID=Europe/London:20250727T120000
DTSTAMP:20260419T185748
CREATED:20250409T125250Z
LAST-MODIFIED:20250409T125250Z
UID:750-1753610400-1753617600@felixstowetennis.co.uk
SUMMARY:Sunday Morning Club Play
DESCRIPTION:
URL:https://felixstowetennis.co.uk/event/sunday-morning-club-play-16/
CATEGORIES:General
END:VEVENT
BEGIN:VEVENT
DTSTART;TZID=Europe/London:20250729T180000
DTEND;TZID=Europe/London:20250729T200000
DTSTAMP:20260419T185748
CREATED:20250409T133031Z
LAST-MODIFIED:20250409T133031Z
UID:832-1753812000-1753819200@felixstowetennis.co.uk
SUMMARY:Tuesday Evening Club Night
DESCRIPTION:
URL:https://felixstowetennis.co.uk/event/tuesday-evening-club-night-16/
CATEGORIES:General
END:VEVENT
END:VCALENDAR