BEGIN:VCALENDAR
VERSION:2.0
PRODID:-//Felixstowe - ECPv6.15.20//NONSGML v1.0//EN
CALSCALE:GREGORIAN
METHOD:PUBLISH
X-WR-CALNAME:Felixstowe
X-ORIGINAL-URL:https://felixstowetennis.co.uk
X-WR-CALDESC:Events for Felixstowe
REFRESH-INTERVAL;VALUE=DURATION:PT1H
X-Robots-Tag:noindex
X-PUBLISHED-TTL:PT1H
BEGIN:VTIMEZONE
TZID:Europe/London
BEGIN:DAYLIGHT
TZOFFSETFROM:+0000
TZOFFSETTO:+0100
TZNAME:BST
DTSTART:20240331T010000
END:DAYLIGHT
BEGIN:STANDARD
TZOFFSETFROM:+0100
TZOFFSETTO:+0000
TZNAME:GMT
DTSTART:20241027T010000
END:STANDARD
BEGIN:DAYLIGHT
TZOFFSETFROM:+0000
TZOFFSETTO:+0100
TZNAME:BST
DTSTART:20250330T010000
END:DAYLIGHT
BEGIN:STANDARD
TZOFFSETFROM:+0100
TZOFFSETTO:+0000
TZNAME:GMT
DTSTART:20251026T010000
END:STANDARD
BEGIN:DAYLIGHT
TZOFFSETFROM:+0000
TZOFFSETTO:+0100
TZNAME:BST
DTSTART:20260329T010000
END:DAYLIGHT
BEGIN:STANDARD
TZOFFSETFROM:+0100
TZOFFSETTO:+0000
TZNAME:GMT
DTSTART:20261025T010000
END:STANDARD
END:VTIMEZONE
BEGIN:VEVENT
DTSTART;TZID=Europe/London:20250914T100000
DTEND;TZID=Europe/London:20250914T120000
DTSTAMP:20260420T003516
CREATED:20250409T130827Z
LAST-MODIFIED:20250409T130827Z
UID:770-1757844000-1757851200@felixstowetennis.co.uk
SUMMARY:Sunday Morning Club Play
DESCRIPTION:
URL:https://felixstowetennis.co.uk/event/sunday-morning-club-play-23/
CATEGORIES:General
END:VEVENT
BEGIN:VEVENT
DTSTART;TZID=Europe/London:20250916T180000
DTEND;TZID=Europe/London:20250916T200000
DTSTAMP:20260420T003516
CREATED:20250409T133436Z
LAST-MODIFIED:20250409T133436Z
UID:846-1758045600-1758052800@felixstowetennis.co.uk
SUMMARY:Tuesday Evening Club Night
DESCRIPTION:
URL:https://felixstowetennis.co.uk/event/tuesday-evening-club-night-23/
CATEGORIES:General
END:VEVENT
BEGIN:VEVENT
DTSTART;TZID=Europe/London:20250919T181500
DTEND;TZID=Europe/London:20250919T191500
DTSTAMP:20260420T003516
CREATED:20250822T194218Z
LAST-MODIFIED:20250822T194218Z
UID:1431-1758305700-1758309300@felixstowetennis.co.uk
SUMMARY:Friday Flow & Glow \, a new Yoga Class with Louisa is coming to Felixstowe Lawn Tennis Club
DESCRIPTION:To Book https://bookwhen.com/yogawithlouisa/e/ev-sxsf-20250912181500
URL:https://felixstowetennis.co.uk/event/friday-flow-glow-a-new-yoga-class-with-louisa-is-coming-to-felixstowe-lawn-tennis-club-2/
CATEGORIES:General
END:VEVENT
BEGIN:VEVENT
DTSTART;TZID=Europe/London:20250921T100000
DTEND;TZID=Europe/London:20250921T120000
DTSTAMP:20260420T003516
CREATED:20250409T130904Z
LAST-MODIFIED:20250409T130904Z
UID:772-1758448800-1758456000@felixstowetennis.co.uk
SUMMARY:Sunday Morning Club Play
DESCRIPTION:
URL:https://felixstowetennis.co.uk/event/sunday-morning-club-play-24/
CATEGORIES:General
END:VEVENT
BEGIN:VEVENT
DTSTART;TZID=Europe/London:20250923T180000
DTEND;TZID=Europe/London:20250923T200000
DTSTAMP:20260420T003516
CREATED:20250409T133510Z
LAST-MODIFIED:20250409T133510Z
UID:848-1758650400-1758657600@felixstowetennis.co.uk
SUMMARY:Tuesday Evening Club Night
DESCRIPTION:
URL:https://felixstowetennis.co.uk/event/tuesday-evening-club-night-24/
CATEGORIES:General
END:VEVENT
BEGIN:VEVENT
DTSTART;TZID=Europe/London:20250925T183000
DTEND;TZID=Europe/London:20250925T193000
DTSTAMP:20260420T003516
CREATED:20250923T103548Z
LAST-MODIFIED:20250923T103548Z
UID:1441-1758825000-1758828600@felixstowetennis.co.uk
SUMMARY:Yoga With Lindsey Franklin 6.30pm - 7.30pm
DESCRIPTION:
URL:https://felixstowetennis.co.uk/event/yoga-with-lindsey-franklin-6-30pm-7-30pm/
CATEGORIES:General
END:VEVENT
BEGIN:VEVENT
DTSTART;TZID=Europe/London:20250926T181500
DTEND;TZID=Europe/London:20250926T191500
DTSTAMP:20260420T003516
CREATED:20250822T194334Z
LAST-MODIFIED:20250822T194334Z
UID:1433-1758910500-1758914100@felixstowetennis.co.uk
SUMMARY:Friday Flow & Glow \, a new Yoga Class with Louisa is coming to Felixstowe Lawn Tennis Club
DESCRIPTION:To Book https://bookwhen.com/yogawithlouisa/e/ev-sxsf-20250912181500
URL:https://felixstowetennis.co.uk/event/friday-flow-glow-a-new-yoga-class-with-louisa-is-coming-to-felixstowe-lawn-tennis-club-3/
CATEGORIES:General
END:VEVENT
BEGIN:VEVENT
DTSTART;TZID=Europe/London:20250927T140000
DTEND;TZID=Europe/London:20250927T223000
DTSTAMP:20260420T003516
CREATED:20250617T085212Z
LAST-MODIFIED:20250617T085212Z
UID:1353-1758981600-1759012200@felixstowetennis.co.uk
SUMMARY:Private Function 2PM to 10.30PM
DESCRIPTION:
URL:https://felixstowetennis.co.uk/event/private-function-2pm-to-10-30pm-2/
CATEGORIES:General
END:VEVENT
BEGIN:VEVENT
DTSTART;TZID=Europe/London:20250928T100000
DTEND;TZID=Europe/London:20250928T120000
DTSTAMP:20260420T003516
CREATED:20250409T130928Z
LAST-MODIFIED:20250409T130928Z
UID:774-1759053600-1759060800@felixstowetennis.co.uk
SUMMARY:Sunday Morning Club Play
DESCRIPTION:
URL:https://felixstowetennis.co.uk/event/sunday-morning-club-play-25/
CATEGORIES:General
END:VEVENT
BEGIN:VEVENT
DTSTART;TZID=Europe/London:20250930T180000
DTEND;TZID=Europe/London:20250930T200000
DTSTAMP:20260420T003516
CREATED:20250409T133537Z
LAST-MODIFIED:20250409T133537Z
UID:850-1759255200-1759262400@felixstowetennis.co.uk
SUMMARY:Tuesday Evening Club Night
DESCRIPTION:
URL:https://felixstowetennis.co.uk/event/tuesday-evening-club-night-25/
CATEGORIES:General
END:VEVENT
BEGIN:VEVENT
DTSTART;TZID=Europe/London:20251005T100000
DTEND;TZID=Europe/London:20251005T120000
DTSTAMP:20260420T003516
CREATED:20250409T131012Z
LAST-MODIFIED:20250409T131012Z
UID:776-1759658400-1759665600@felixstowetennis.co.uk
SUMMARY:Sunday Morning Club Play
DESCRIPTION:
URL:https://felixstowetennis.co.uk/event/sunday-morning-club-play-26/
CATEGORIES:General
END:VEVENT
BEGIN:VEVENT
DTSTART;TZID=Europe/London:20251007T180000
DTEND;TZID=Europe/London:20251007T200000
DTSTAMP:20260420T003516
CREATED:20250409T133619Z
LAST-MODIFIED:20250409T133619Z
UID:852-1759860000-1759867200@felixstowetennis.co.uk
SUMMARY:Tuesday Evening Club Night
DESCRIPTION:
URL:https://felixstowetennis.co.uk/event/tuesday-evening-club-night-26/
CATEGORIES:General
END:VEVENT
BEGIN:VEVENT
DTSTART;TZID=Europe/London:20251010T181500
DTEND;TZID=Europe/London:20251010T191500
DTSTAMP:20260420T003516
CREATED:20250822T194557Z
LAST-MODIFIED:20250822T194557Z
UID:1437-1760120100-1760123700@felixstowetennis.co.uk
SUMMARY:Friday Flow & Glow \, a new Yoga Class with Louisa is coming to Felixstowe Lawn Tennis Club
DESCRIPTION:To Book https://bookwhen.com/yogawithlouisa/e/ev-sxsf-20250912181500
URL:https://felixstowetennis.co.uk/event/friday-flow-glow-a-new-yoga-class-with-louisa-is-coming-to-felixstowe-lawn-tennis-club-5/
CATEGORIES:General
END:VEVENT
BEGIN:VEVENT
DTSTART;TZID=Europe/London:20251012T100000
DTEND;TZID=Europe/London:20251012T120000
DTSTAMP:20260420T003516
CREATED:20250409T131053Z
LAST-MODIFIED:20250409T131053Z
UID:778-1760263200-1760270400@felixstowetennis.co.uk
SUMMARY:Sunday Morning Club Play
DESCRIPTION:
URL:https://felixstowetennis.co.uk/event/sunday-morning-club-play-27/
CATEGORIES:General
END:VEVENT
BEGIN:VEVENT
DTSTART;TZID=Europe/London:20251014T180000
DTEND;TZID=Europe/London:20251014T200000
DTSTAMP:20260420T003516
CREATED:20250409T133653Z
LAST-MODIFIED:20250409T133653Z
UID:854-1760464800-1760472000@felixstowetennis.co.uk
SUMMARY:Tuesday Evening Club Night
DESCRIPTION:
URL:https://felixstowetennis.co.uk/event/tuesday-evening-club-night-27/
CATEGORIES:General
END:VEVENT
BEGIN:VEVENT
DTSTART;TZID=Europe/London:20251016T183000
DTEND;TZID=Europe/London:20251016T193000
DTSTAMP:20260420T003516
CREATED:20250923T103734Z
LAST-MODIFIED:20250923T103734Z
UID:1445-1760639400-1760643000@felixstowetennis.co.uk
SUMMARY:Yoga With Lindsey Franklin 6.30pm - 7.30pm
DESCRIPTION:
URL:https://felixstowetennis.co.uk/event/yoga-with-lindsey-franklin-6-30pm-7-30pm-3/
CATEGORIES:General
END:VEVENT
BEGIN:VEVENT
DTSTART;TZID=Europe/London:20251017T180000
DTEND;TZID=Europe/London:20251017T190000
DTSTAMP:20260420T003516
CREATED:20251021T201123Z
LAST-MODIFIED:20251021T201123Z
UID:1476-1760724000-1760727600@felixstowetennis.co.uk
SUMMARY:Friday Flow & Glow \, a new Yoga Class with Louisa is coming to Felixstowe Lawn Tennis Club
DESCRIPTION:
URL:https://felixstowetennis.co.uk/event/friday-flow-glow-a-new-yoga-class-with-louisa-is-coming-to-felixstowe-lawn-tennis-club-4/
CATEGORIES:General
END:VEVENT
BEGIN:VEVENT
DTSTART;TZID=Europe/London:20251019T100000
DTEND;TZID=Europe/London:20251019T120000
DTSTAMP:20260420T003516
CREATED:20250409T131123Z
LAST-MODIFIED:20250409T131123Z
UID:780-1760868000-1760875200@felixstowetennis.co.uk
SUMMARY:Sunday Morning Club Play
DESCRIPTION:
URL:https://felixstowetennis.co.uk/event/sunday-morning-club-play-28/
CATEGORIES:General
END:VEVENT
BEGIN:VEVENT
DTSTART;TZID=Europe/London:20251021T180000
DTEND;TZID=Europe/London:20251021T200000
DTSTAMP:20260420T003516
CREATED:20250409T133727Z
LAST-MODIFIED:20250409T133727Z
UID:856-1761069600-1761076800@felixstowetennis.co.uk
SUMMARY:Tuesday Evening Club Night
DESCRIPTION:
URL:https://felixstowetennis.co.uk/event/tuesday-evening-club-night-28/
CATEGORIES:General
END:VEVENT
BEGIN:VEVENT
DTSTART;TZID=Europe/London:20251023T183000
DTEND;TZID=Europe/London:20251023T193000
DTSTAMP:20260420T003516
CREATED:20250923T103759Z
LAST-MODIFIED:20250923T103759Z
UID:1447-1761244200-1761247800@felixstowetennis.co.uk
SUMMARY:Yoga With Lindsey Franklin 6.30pm - 7.30pm
DESCRIPTION:
URL:https://felixstowetennis.co.uk/event/yoga-with-lindsey-franklin-6-30pm-7-30pm-4/
CATEGORIES:General
END:VEVENT
BEGIN:VEVENT
DTSTART;TZID=Europe/London:20251024T181500
DTEND;TZID=Europe/London:20251024T191500
DTSTAMP:20260420T003516
CREATED:20251021T201220Z
LAST-MODIFIED:20251021T201220Z
UID:1478-1761329700-1761333300@felixstowetennis.co.uk
SUMMARY:Friday Flow & Glow \, a new Yoga Class with Louisa is coming to Felixstowe Lawn Tennis Club
DESCRIPTION:
URL:https://felixstowetennis.co.uk/event/friday-flow-glow-a-new-yoga-class-with-louisa-is-coming-to-felixstowe-lawn-tennis-club-6/
CATEGORIES:General
END:VEVENT
BEGIN:VEVENT
DTSTART;TZID=Europe/London:20251026T100000
DTEND;TZID=Europe/London:20251026T120000
DTSTAMP:20260420T003516
CREATED:20250409T131202Z
LAST-MODIFIED:20250409T131202Z
UID:782-1761472800-1761480000@felixstowetennis.co.uk
SUMMARY:Sunday Morning Club Play
DESCRIPTION:
URL:https://felixstowetennis.co.uk/event/sunday-morning-club-play-29/
CATEGORIES:General
END:VEVENT
BEGIN:VEVENT
DTSTART;TZID=Europe/London:20251028T180000
DTEND;TZID=Europe/London:20251028T200000
DTSTAMP:20260420T003516
CREATED:20250409T133753Z
LAST-MODIFIED:20250409T133753Z
UID:858-1761674400-1761681600@felixstowetennis.co.uk
SUMMARY:Tuesday Evening Club Night
DESCRIPTION:
URL:https://felixstowetennis.co.uk/event/tuesday-evening-club-night-29/
CATEGORIES:General
END:VEVENT
BEGIN:VEVENT
DTSTART;TZID=Europe/London:20251102T100000
DTEND;TZID=Europe/London:20251102T120000
DTSTAMP:20260420T003516
CREATED:20250409T131233Z
LAST-MODIFIED:20250409T131233Z
UID:784-1762077600-1762084800@felixstowetennis.co.uk
SUMMARY:Sunday Morning Club Play
DESCRIPTION:
URL:https://felixstowetennis.co.uk/event/sunday-morning-club-play-30/
CATEGORIES:General
END:VEVENT
BEGIN:VEVENT
DTSTART;TZID=Europe/London:20251104T180000
DTEND;TZID=Europe/London:20251104T200000
DTSTAMP:20260420T003516
CREATED:20250409T133824Z
LAST-MODIFIED:20250409T133824Z
UID:860-1762279200-1762286400@felixstowetennis.co.uk
SUMMARY:Tuesday Evening Club Night
DESCRIPTION:
URL:https://felixstowetennis.co.uk/event/tuesday-evening-club-night-30/
CATEGORIES:General
END:VEVENT
BEGIN:VEVENT
DTSTART;TZID=Europe/London:20251109T100000
DTEND;TZID=Europe/London:20251109T120000
DTSTAMP:20260420T003516
CREATED:20250409T131313Z
LAST-MODIFIED:20250409T131313Z
UID:786-1762682400-1762689600@felixstowetennis.co.uk
SUMMARY:Sunday Morning Club Play
DESCRIPTION:
URL:https://felixstowetennis.co.uk/event/sunday-morning-club-play-31/
CATEGORIES:General
END:VEVENT
BEGIN:VEVENT
DTSTART;TZID=Europe/London:20251111T180000
DTEND;TZID=Europe/London:20251111T200000
DTSTAMP:20260420T003516
CREATED:20250409T133921Z
LAST-MODIFIED:20250409T133921Z
UID:864-1762884000-1762891200@felixstowetennis.co.uk
SUMMARY:Tuesday Evening Club Night
DESCRIPTION:
URL:https://felixstowetennis.co.uk/event/tuesday-evening-club-night-32/
CATEGORIES:General
END:VEVENT
BEGIN:VEVENT
DTSTART;TZID=Europe/London:20251113T183000
DTEND;TZID=Europe/London:20251113T193000
DTSTAMP:20260420T003516
CREATED:20250923T103828Z
LAST-MODIFIED:20250923T103828Z
UID:1449-1763058600-1763062200@felixstowetennis.co.uk
SUMMARY:Yoga With Lindsey Franklin 6.30pm - 7.30pm
DESCRIPTION:
URL:https://felixstowetennis.co.uk/event/yoga-with-lindsey-franklin-6-30pm-7-30pm-5/
CATEGORIES:General
END:VEVENT
BEGIN:VEVENT
DTSTART;TZID=Europe/London:20251116T100000
DTEND;TZID=Europe/London:20251116T120000
DTSTAMP:20260420T003516
CREATED:20250409T131343Z
LAST-MODIFIED:20250409T131343Z
UID:788-1763287200-1763294400@felixstowetennis.co.uk
SUMMARY:Sunday Morning Club Play
DESCRIPTION:
URL:https://felixstowetennis.co.uk/event/sunday-morning-club-play-32/
CATEGORIES:General
END:VEVENT
BEGIN:VEVENT
DTSTART;TZID=Europe/London:20251118T180000
DTEND;TZID=Europe/London:20251118T200000
DTSTAMP:20260420T003516
CREATED:20250409T134107Z
LAST-MODIFIED:20250409T134107Z
UID:868-1763488800-1763496000@felixstowetennis.co.uk
SUMMARY:Tuesday Evening Club Night
DESCRIPTION:
URL:https://felixstowetennis.co.uk/event/tuesday-evening-club-night-31/
CATEGORIES:General
END:VEVENT
END:VCALENDAR