BEGIN:VCALENDAR
VERSION:2.0
PRODID:-//Felixstowe - ECPv6.15.20//NONSGML v1.0//EN
CALSCALE:GREGORIAN
METHOD:PUBLISH
X-ORIGINAL-URL:https://felixstowetennis.co.uk
X-WR-CALDESC:Events for Felixstowe
REFRESH-INTERVAL;VALUE=DURATION:PT1H
X-Robots-Tag:noindex
X-PUBLISHED-TTL:PT1H
BEGIN:VTIMEZONE
TZID:Europe/London
BEGIN:DAYLIGHT
TZOFFSETFROM:+0000
TZOFFSETTO:+0100
TZNAME:BST
DTSTART:20240331T010000
END:DAYLIGHT
BEGIN:STANDARD
TZOFFSETFROM:+0100
TZOFFSETTO:+0000
TZNAME:GMT
DTSTART:20241027T010000
END:STANDARD
BEGIN:DAYLIGHT
TZOFFSETFROM:+0000
TZOFFSETTO:+0100
TZNAME:BST
DTSTART:20250330T010000
END:DAYLIGHT
BEGIN:STANDARD
TZOFFSETFROM:+0100
TZOFFSETTO:+0000
TZNAME:GMT
DTSTART:20251026T010000
END:STANDARD
BEGIN:DAYLIGHT
TZOFFSETFROM:+0000
TZOFFSETTO:+0100
TZNAME:BST
DTSTART:20260329T010000
END:DAYLIGHT
BEGIN:STANDARD
TZOFFSETFROM:+0100
TZOFFSETTO:+0000
TZNAME:GMT
DTSTART:20261025T010000
END:STANDARD
END:VTIMEZONE
BEGIN:VEVENT
DTSTART;TZID=Europe/London:20250907T100000
DTEND;TZID=Europe/London:20250907T200000
DTSTAMP:20260420T154638
CREATED:20250510T152328Z
LAST-MODIFIED:20250510T152328Z
UID:1306-1757239200-1757275200@felixstowetennis.co.uk
SUMMARY:Interclub Doubles
DESCRIPTION:
URL:https://felixstowetennis.co.uk/event/interclub-doubles/
CATEGORIES:Tournaments
END:VEVENT
BEGIN:VEVENT
DTSTART;TZID=Europe/London:20250914T100000
DTEND;TZID=Europe/London:20250914T210000
DTSTAMP:20260420T154638
CREATED:20250510T152455Z
LAST-MODIFIED:20250510T152455Z
UID:1308-1757844000-1757883600@felixstowetennis.co.uk
SUMMARY:Felixstowe Lawn Tennis Club Tournament
DESCRIPTION:
URL:https://felixstowetennis.co.uk/event/felixstowe-lawn-tennis-club-tournament/
CATEGORIES:Tournaments
END:VEVENT
END:VCALENDAR