BEGIN:VCALENDAR
VERSION:2.0
PRODID:-//Felixstowe - ECPv6.15.20//NONSGML v1.0//EN
CALSCALE:GREGORIAN
METHOD:PUBLISH
X-ORIGINAL-URL:https://felixstowetennis.co.uk
X-WR-CALDESC:Events for Felixstowe
REFRESH-INTERVAL;VALUE=DURATION:PT1H
X-Robots-Tag:noindex
X-PUBLISHED-TTL:PT1H
BEGIN:VTIMEZONE
TZID:Europe/London
BEGIN:DAYLIGHT
TZOFFSETFROM:+0000
TZOFFSETTO:+0100
TZNAME:BST
DTSTART:20250330T010000
END:DAYLIGHT
BEGIN:STANDARD
TZOFFSETFROM:+0100
TZOFFSETTO:+0000
TZNAME:GMT
DTSTART:20251026T010000
END:STANDARD
BEGIN:DAYLIGHT
TZOFFSETFROM:+0000
TZOFFSETTO:+0100
TZNAME:BST
DTSTART:20260329T010000
END:DAYLIGHT
BEGIN:STANDARD
TZOFFSETFROM:+0100
TZOFFSETTO:+0000
TZNAME:GMT
DTSTART:20261025T010000
END:STANDARD
BEGIN:DAYLIGHT
TZOFFSETFROM:+0000
TZOFFSETTO:+0100
TZNAME:BST
DTSTART:20270328T010000
END:DAYLIGHT
BEGIN:STANDARD
TZOFFSETFROM:+0100
TZOFFSETTO:+0000
TZNAME:GMT
DTSTART:20271031T010000
END:STANDARD
END:VTIMEZONE
BEGIN:VEVENT
DTSTART;TZID=Europe/London:20260607T100000
DTEND;TZID=Europe/London:20260607T170000
DTSTAMP:20260419T183300
CREATED:20260122T164557Z
LAST-MODIFIED:20260122T164557Z
UID:1841-1780826400-1780851600@felixstowetennis.co.uk
SUMMARY:Seniors Fast 4 
DESCRIPTION:
URL:https://felixstowetennis.co.uk/event/seniors-fast-4/
CATEGORIES:Tournaments
END:VEVENT
BEGIN:VEVENT
DTSTART;TZID=Europe/London:20260617T100000
DTEND;TZID=Europe/London:20260621T170000
DTSTAMP:20260419T183300
CREATED:20260113T184829Z
LAST-MODIFIED:20260120T195515Z
UID:1805-1781690400-1782061200@felixstowetennis.co.uk
SUMMARY:12th Felixstowe ITF Masters 17th June to 21st June
DESCRIPTION:
URL:https://felixstowetennis.co.uk/event/felixstowe-itf-masters-17th-june-to-20st-june/
CATEGORIES:Tournaments
END:VEVENT
BEGIN:VEVENT
DTSTART;TZID=Europe/London:20260621T110000
DTEND;TZID=Europe/London:20260621T170000
DTSTAMP:20260419T183300
CREATED:20260122T164851Z
LAST-MODIFIED:20260122T164851Z
UID:1845-1782039600-1782061200@felixstowetennis.co.uk
SUMMARY:Invited Play Your Way to Wimbledon Adult Doubles
DESCRIPTION:
URL:https://felixstowetennis.co.uk/event/invited-play-your-way-to-wimbledon-adult-doubles/
CATEGORIES:Tournaments
END:VEVENT
BEGIN:VEVENT
DTSTART;TZID=Europe/London:20260622T100000
DTEND;TZID=Europe/London:20260627T180000
DTSTAMP:20260419T183300
CREATED:20260113T184953Z
LAST-MODIFIED:20260113T184953Z
UID:1807-1782122400-1782583200@felixstowetennis.co.uk
SUMMARY:Lexus British Tour 2026 22nd June to 27th June
DESCRIPTION:
URL:https://felixstowetennis.co.uk/event/lexus-british-tour-2026-22nd-june-to-27th-june/
CATEGORIES:Tournaments
END:VEVENT
BEGIN:VEVENT
DTSTART;TZID=Europe/London:20260628T100000
DTEND;TZID=Europe/London:20260628T170000
DTSTAMP:20260419T183300
CREATED:20260122T164655Z
LAST-MODIFIED:20260122T164655Z
UID:1843-1782640800-1782666000@felixstowetennis.co.uk
SUMMARY:Play Your Way to Wimbledon Under 14s
DESCRIPTION:
URL:https://felixstowetennis.co.uk/event/play-your-way-to-wimbledon-under-14s/
CATEGORIES:Tournaments
END:VEVENT
END:VCALENDAR