BEGIN:VCALENDAR
VERSION:2.0
PRODID:-//Felixstowe - ECPv6.15.20//NONSGML v1.0//EN
CALSCALE:GREGORIAN
METHOD:PUBLISH
X-WR-CALNAME:Felixstowe
X-ORIGINAL-URL:https://felixstowetennis.co.uk
X-WR-CALDESC:Events for Felixstowe
REFRESH-INTERVAL;VALUE=DURATION:PT1H
X-Robots-Tag:noindex
X-PUBLISHED-TTL:PT1H
BEGIN:VTIMEZONE
TZID:Europe/London
BEGIN:DAYLIGHT
TZOFFSETFROM:+0000
TZOFFSETTO:+0100
TZNAME:BST
DTSTART:20240331T010000
END:DAYLIGHT
BEGIN:STANDARD
TZOFFSETFROM:+0100
TZOFFSETTO:+0000
TZNAME:GMT
DTSTART:20241027T010000
END:STANDARD
BEGIN:DAYLIGHT
TZOFFSETFROM:+0000
TZOFFSETTO:+0100
TZNAME:BST
DTSTART:20250330T010000
END:DAYLIGHT
BEGIN:STANDARD
TZOFFSETFROM:+0100
TZOFFSETTO:+0000
TZNAME:GMT
DTSTART:20251026T010000
END:STANDARD
BEGIN:DAYLIGHT
TZOFFSETFROM:+0000
TZOFFSETTO:+0100
TZNAME:BST
DTSTART:20260329T010000
END:DAYLIGHT
BEGIN:STANDARD
TZOFFSETFROM:+0100
TZOFFSETTO:+0000
TZNAME:GMT
DTSTART:20261025T010000
END:STANDARD
END:VTIMEZONE
BEGIN:VEVENT
DTSTART;TZID=Europe/London:20250420T100000
DTEND;TZID=Europe/London:20250420T170000
DTSTAMP:20260421T012016
CREATED:20250409T151247Z
LAST-MODIFIED:20250409T151247Z
UID:887-1745143200-1745168400@felixstowetennis.co.uk
SUMMARY:Tournament U12/U16 Fast 4
DESCRIPTION:
URL:https://felixstowetennis.co.uk/event/tournament-u12-u16-fast-4/
CATEGORIES:Tournaments
END:VEVENT
END:VCALENDAR